BEGIN:VCALENDAR
VERSION:2.0
PRODID:-//Pro Loco Bellunesi - ECPv6.10.2//NONSGML v1.0//EN
CALSCALE:GREGORIAN
METHOD:PUBLISH
X-ORIGINAL-URL:https://www.prolocobellunesi.it
X-WR-CALDESC:Eventi per Pro Loco Bellunesi
REFRESH-INTERVAL;VALUE=DURATION:PT1H
X-Robots-Tag:noindex
X-PUBLISHED-TTL:PT1H
BEGIN:VTIMEZONE
TZID:UTC
BEGIN:STANDARD
TZOFFSETFROM:+0000
TZOFFSETTO:+0000
TZNAME:UTC
DTSTART:20210101T000000
END:STANDARD
END:VTIMEZONE
BEGIN:VEVENT
DTSTART;TZID=UTC:20251219T203000
DTEND;TZID=UTC:20251219T203000
DTSTAMP:20260423T082703
CREATED:20251218T094625Z
LAST-MODIFIED:20251218T094625Z
UID:42492-1766176200-1766176200@www.prolocobellunesi.it
SUMMARY:Cconcerto di Natale  a Gron (Sospirolo)
DESCRIPTION:Venerdì 19 dicembre 2025 alle ore 20:30 nella chiesa parrocchiale di Gron\, tradizionale concerto di Natale  con il coro CTG Belluno diretto dal M° Stefano Da Ros e con la partecipazione dell’organista Stefano Maso. \n  \nL’evento è organizzato dal Comune di Sospirolo-Biblioteca Civica e dalle Parrocchie di Sospirolo-Gron-Mas/Peron in collaborazione con la Pro Loco Monti del Sole; a seguire un momento conviviale per augurare a tutti liete festività\, offerto dalla Protezione Civile. \n  \nIngresso libero \n 
URL:https://www.prolocobellunesi.it/evento/cconcerto-di-natale-a-gron-sospirolo/
CATEGORIES:Concerti,Eventi natalizi
ATTACH;FMTTYPE=image/jpeg:https://www.prolocobellunesi.it/wp-content/uploads/2025/12/25dic-Concerto-di-Natale.jpg
END:VEVENT
BEGIN:VEVENT
DTSTART;TZID=UTC:20251207T173000
DTEND;TZID=UTC:20251207T220000
DTSTAMP:20260423T082703
CREATED:20251202T084825Z
LAST-MODIFIED:20251202T084825Z
UID:35263-1765128600-1765144800@www.prolocobellunesi.it
SUMMARY:CONCERTO DI SANTA BARBARA
DESCRIPTION:CONCERTO DI SANTA BARBARA \nDomenica 7 dicembre ore 17.30 al Centro civico di Sospirolo \nLa Pro Loco Monti del Sole offre il tradizionale concerto di S.Barbara in ricordo dei Cari Collaboratori mancati nel corso del 2025; quest’anno ricordiamo Attilio Modolo\,\nuna delle persone che tanto si sono impegnate\, collaborando con la Pro Loco\, e Attilio anche con il Comitato di S.Barbara\, per migliorare Sospirolo.\nPartecipi di quel Volontariato che costituisce l’anima di un paese e ne dà l’identità. L’iniziativa gode del patrocinio del Comune di Sospirolo e della collaborazione del Comitato di S.Barbara. \n  \nL’esibizione musicale che ci propone il M° Diego De Pasqual è un’esperienza che collega direttamente quello che ascoltiamo e sentiamo al cuore\, alla mente e all’anima. \nDiario di Viaggio\, il titolo dato a questo racconto musicale\, inizia con una melodia\, un’eco lontana. Poi la musica si ferma e l’artista\, con un racconto intimo e sincero\, rivela la scintilla che ha acceso quel brano: una luce nel buio\, un’emozione in un momento di silenzio\, la necessità di dare voce a un’immagine o a una storia. I brani si susseguono come capitoli di un romanzo sonoro che svela il processo creativo. Il pubblico non si limita ad ascoltare\, ma viene trasportato dietro il palco dell’ispirazione. E’ un’occasione per guardare con gli occhi dell’artista e capire che la musica non è solo suono\, ma è vita\, emozione e ricordo. \nDiego De Pasqual è un compositore\, arrangiatore e direttore d’orchestra\, con una formazione accademica solida\, culminata nel Diploma di laurea in “Strumentazione e direzione per orchestra di fiati” conseguito con lode al Conservatorio di Trento.
URL:https://www.prolocobellunesi.it/evento/concerto-di-santa-barbara-3/
CATEGORIES:Concerti
ATTACH;FMTTYPE=image/jpeg:https://www.prolocobellunesi.it/wp-content/uploads/2025/12/A4-con-Foto-Santa-Barbara-2025.jpg
END:VEVENT
BEGIN:VEVENT
DTSTART;TZID=UTC:20250725T203000
DTEND;TZID=UTC:20250725T233000
DTSTAMP:20260423T082703
CREATED:20250722T071210Z
LAST-MODIFIED:20250722T071210Z
UID:8918-1753475400-1753486200@www.prolocobellunesi.it
SUMMARY:Concerto "Armonie di pace"
DESCRIPTION:
URL:https://www.prolocobellunesi.it/evento/concerto-armonie-di-pace/
CATEGORIES:Concerti
ATTACH;FMTTYPE=image/jpeg:https://www.prolocobellunesi.it/wp-content/uploads/2025/07/IMG-20250721-WA0005.jpg
END:VEVENT
BEGIN:VEVENT
DTSTART;TZID=UTC:20250621T083000
DTEND;TZID=UTC:20250621T170000
DTSTAMP:20260423T082703
CREATED:20250620T094512Z
LAST-MODIFIED:20250620T094512Z
UID:7368-1750494600-1750525200@www.prolocobellunesi.it
SUMMARY:Festa della Musica
DESCRIPTION:
URL:https://www.prolocobellunesi.it/evento/festa-della-musica/
CATEGORIES:Concerti
ATTACH;FMTTYPE=image/png:https://www.prolocobellunesi.it/wp-content/uploads/2025/06/LOCANDINA-FESTA-DELLA-MUSICA-2025.png
END:VEVENT
BEGIN:VEVENT
DTSTART;TZID=UTC:20241201T173000
DTEND;TZID=UTC:20241201T193000
DTSTAMP:20260423T082703
CREATED:20241128T104543Z
LAST-MODIFIED:20241128T104543Z
UID:6817-1733074200-1733081400@www.prolocobellunesi.it
SUMMARY:Concerto di Santa Barbara
DESCRIPTION:E infine domenica 1° dicembre si terrà il tradizionale concerto di S.Barbara con il Coro Agordo diretto da Anna Devich e dedicato ai collaboratori della Pro Loco purtroppo mancati nel corso dell’ultimo anno: Rosanna Piccolotto\, Vittorino Naldo\, Gino Moretti\, Italo Pellizzari e Mario De Bon. Persone che tanto si sono impegnate\, collaborando con la Pro Loco\, per migliorare Sospirolo. Partecipi di quel Volontariato che costituisce l’anima di un paese e ne dà l’identità. \n  \nCORO AGORDO \ndiretto dal M° Anna Devich \nIl Coro Agordo\, sorto nel 1966 sotto la guida di Salvatore Santomaso\, è stato tra le prime formazioni a voci miste dell’arco alpino ad affrontare il repertorio popolare tradizionale privilegiando apposite armonizzazioni originali. \nSull’iniziale filone classico del “canto di montagna” il Coro ha\, via via\, approcciato altri generi che vanno dal repertorio d’ispirazione popolare al canto d’autore\, dagli inni religiosi alla musica leggera; ciò grazie al matrimonio artistico con il musicista Lamberto Pietropoli valente armonizzatore scomparso nel 1994\, il quale è riuscito\, con il suo lavoro\, a valorizzare al massimo le caratteristiche dell’organico a voci miste. \nDal 2008 al 2022\, in seguito alla scomparsa del M° Santomaso\, la direzione artistica del Coro è passata a Roberta Conedera. Dal 2023 la bacchetta del gruppo è nelle mani di Anna Devich. \nIl Presidente \nGabriele Riva \n  \nCanti \nAGORDO (L. Pietropoli) \nRESTENA (B. De Marzi) \nBEL FODOM (A. Soratroi) \nLE ZIME DE L’AUTA (L. Pietropoli) \nSTAGIONI DI PACE (G. Valle) \nMONTAGNE ADDIO (G. Bregani) \nLAILA (B. De Marzi) \n  \nSOTTO SIERIS (M. Maiero) \nIMPROVVISO (B. De Marzi) \nMONTAGNE VALDÔTAINES (Canto popolare valdostano) \nSON PARTÌ DA COI (Canto popolare) \nE GIRA CHE TE GIRA (Canto popolare) \nBALLATA DEL SOLDATO (R. Moore / B. Sadler) \nTI RICORDI LA SERA DEI BACI? (Canto popolare degli Alpini)
URL:https://www.prolocobellunesi.it/evento/concerto-di-santa-barbara-2/
CATEGORIES:Concerti,Natale
ATTACH;FMTTYPE=image/jpeg:https://www.prolocobellunesi.it/wp-content/uploads/2024/11/LocandinaS-Barbara-ProLoco-2024.jpg
END:VEVENT
BEGIN:VEVENT
DTSTART;TZID=UTC:20240805T080000
DTEND;TZID=UTC:20240805T170000
DTSTAMP:20260423T082703
CREATED:20240723T104249Z
LAST-MODIFIED:20240723T104249Z
UID:6602-1722844800-1722877200@www.prolocobellunesi.it
SUMMARY:Musica in te le vile
DESCRIPTION:
URL:https://www.prolocobellunesi.it/evento/musica-in-te-le-vile-2024-08-05/
CATEGORIES:Concerti
ATTACH;FMTTYPE=image/jpeg:https://www.prolocobellunesi.it/wp-content/uploads/2024/07/IMG-20240719-WA0003.jpg
END:VEVENT
BEGIN:VEVENT
DTSTART;TZID=UTC:20240803T080000
DTEND;TZID=UTC:20240803T170000
DTSTAMP:20260423T082703
CREATED:20240723T104249Z
LAST-MODIFIED:20240723T104249Z
UID:6601-1722672000-1722704400@www.prolocobellunesi.it
SUMMARY:Musica in te le vile
DESCRIPTION:
URL:https://www.prolocobellunesi.it/evento/musica-in-te-le-vile-2024-08-03/
CATEGORIES:Concerti
ATTACH;FMTTYPE=image/jpeg:https://www.prolocobellunesi.it/wp-content/uploads/2024/07/IMG-20240719-WA0003.jpg
END:VEVENT
BEGIN:VEVENT
DTSTART;TZID=UTC:20240727T080000
DTEND;TZID=UTC:20240727T170000
DTSTAMP:20260423T082703
CREATED:20240723T104249Z
LAST-MODIFIED:20240723T104249Z
UID:6600-1722067200-1722099600@www.prolocobellunesi.it
SUMMARY:Musica in te le vile
DESCRIPTION:
URL:https://www.prolocobellunesi.it/evento/musica-in-te-le-vile-2024-07-27/
CATEGORIES:Concerti
ATTACH;FMTTYPE=image/jpeg:https://www.prolocobellunesi.it/wp-content/uploads/2024/07/IMG-20240719-WA0003.jpg
END:VEVENT
BEGIN:VEVENT
DTSTART;TZID=UTC:20240723T080000
DTEND;TZID=UTC:20240723T170000
DTSTAMP:20260423T082703
CREATED:20240723T104249Z
LAST-MODIFIED:20240723T104249Z
UID:6598-1721721600-1721754000@www.prolocobellunesi.it
SUMMARY:Musica in te le vile
DESCRIPTION:
URL:https://www.prolocobellunesi.it/evento/musica-in-te-le-vile/
CATEGORIES:Concerti
ATTACH;FMTTYPE=image/jpeg:https://www.prolocobellunesi.it/wp-content/uploads/2024/07/IMG-20240719-WA0003.jpg
END:VEVENT
BEGIN:VEVENT
DTSTART;TZID=UTC:20240721T173000
DTEND;TZID=UTC:20240721T220000
DTSTAMP:20260423T082703
CREATED:20240716T070334Z
LAST-MODIFIED:20240716T071046Z
UID:6568-1721583000-1721599200@www.prolocobellunesi.it
SUMMARY:Musica nei cortivi
DESCRIPTION:Domenica 21/7 ore 17.30 a Susin concerto della Filarmonica di Lentiai\n diretta dal M° Domenico Vello per la rassegna Musica nei cortivi (Pro Loco-Comitato S.Martino Susin) \n  \n  \n 
URL:https://www.prolocobellunesi.it/evento/musica-nei-cortivi-3/
CATEGORIES:Concerti
ATTACH;FMTTYPE=image/jpeg:https://www.prolocobellunesi.it/wp-content/uploads/2024/07/A4-Musica-Susin-21lug24-3.jpg
END:VEVENT
BEGIN:VEVENT
DTSTART;TZID=UTC:20240629T204500
DTEND;TZID=UTC:20240629T230000
DTSTAMP:20260423T082703
CREATED:20240529T151620Z
LAST-MODIFIED:20240529T151620Z
UID:6455-1719693900-1719702000@www.prolocobellunesi.it
SUMMARY:“Canton San Piero”
DESCRIPTION:sabato 29/6 ore 20.45  in Chiesa a Sospirolo “Canton San Piero”\, ospite il coro S’Arrodia di Sinnai (CA) (Coro Monti del Sole-Pro Loco)
URL:https://www.prolocobellunesi.it/evento/canton-san-piero-2/
CATEGORIES:Concerti
ATTACH;FMTTYPE=image/jpeg:https://www.prolocobellunesi.it/wp-content/uploads/2024/05/29giu-5gen24BepiDeDona.jpg
END:VEVENT
BEGIN:VEVENT
DTSTART;TZID=UTC:20240525T203000
DTEND;TZID=UTC:20240525T233000
DTSTAMP:20260423T082703
CREATED:20240521T101728Z
LAST-MODIFIED:20240521T101728Z
UID:6421-1716669000-1716679800@www.prolocobellunesi.it
SUMMARY:Requiem in re minore
DESCRIPTION:
URL:https://www.prolocobellunesi.it/evento/requiem-in-re-minore/
CATEGORIES:Concerti
ATTACH;FMTTYPE=image/jpeg:https://www.prolocobellunesi.it/wp-content/uploads/2024/05/Bicentenario-della-nascita-del-Cavalier-Don-Antonio-Della-Lucia-–Locandina-Requiem-25-maggio-2024.jpg
END:VEVENT
BEGIN:VEVENT
DTSTART;TZID=UTC:20231203T173000
DTEND;TZID=UTC:20231203T173000
DTSTAMP:20260423T082703
CREATED:20231122T144719Z
LAST-MODIFIED:20231122T144719Z
UID:6187-1701624600-1701624600@www.prolocobellunesi.it
SUMMARY:Concerto di Santa Barbara
DESCRIPTION:domenica 3 dicembre 2023 ore 17.30 al Centro civico di Sospirolo \nal Centro civico concerto di Santa Barbara del Coro femminile Vocincanto diretto dal M° Francesco Lorenzo Luciani con la partecipazione come voce narrante di Francesco Padovani che propone lo spettacolo “Nana Bobò. Ninne nanne e filsatrocche”. Il concerto è Dedicato ai Collaboratori della Pro Loco Monti del Sole: \nPietro Apigalli (Pitele); Romano Casanova; Arrigo Cadore; Luigi Casanova (Gio Longo). \nIngresso Libero \n(Pro Loco-Comitato S.Barbara)
URL:https://www.prolocobellunesi.it/evento/concerto-di-santa-barbara/
CATEGORIES:Concerti,Eventi natalizi
ATTACH;FMTTYPE=image/jpeg:https://www.prolocobellunesi.it/wp-content/uploads/2023/11/Programma-Concerto-Sospirolo_Rid-1-pdf.jpg
END:VEVENT
BEGIN:VEVENT
DTSTART;TZID=UTC:20230910T140000
DTEND;TZID=UTC:20230910T220000
DTSTAMP:20260423T082703
CREATED:20230831T091410Z
LAST-MODIFIED:20230831T091410Z
UID:6028-1694354400-1694383200@www.prolocobellunesi.it
SUMMARY:2° Music Festival Fonzaso
DESCRIPTION:
URL:https://www.prolocobellunesi.it/evento/2-music-festival-fonzaso/
CATEGORIES:Concerti,Eventi vari
ATTACH;FMTTYPE=image/jpeg:https://www.prolocobellunesi.it/wp-content/uploads/2023/08/A5_MusicFestival_08-2023.jpg
END:VEVENT
BEGIN:VEVENT
DTSTART;TZID=UTC:20230714T203000
DTEND;TZID=UTC:20230714T220000
DTSTAMP:20260423T082703
CREATED:20230705T082659Z
LAST-MODIFIED:20230705T082659Z
UID:5843-1689366600-1689372000@www.prolocobellunesi.it
SUMMARY:concerto “Nena Trentin musica live”
DESCRIPTION:Venerdì 14 luglio 2023 alle ore 20.30 in località Pascoli-ai Tonet di Sospirolo concerto “Nena Trentin musica live” per la rassegna Musica nei Cortivi. \nNena (Daniela) Trentin \noriginaria di Orzes-Belluno\, si approccia al canto da bambina con il coro della chiesa. \nA 11 anni studia canto con impostazione lirica all’Accademia Gioacchino Rossini Bellus. Il debutto in pubblico ai giovedì di Belluno di sera. Da lì diverse collaborazioni con più musicisti in Feste di Piazza\, Private e Piano bar. E’ cantante solista della meravigliosa “Orchestra della Speranza” che propone concerti a scopo benefico. Voce solista nella Rock band Mad Dark Lady\, da un anno collabora con un Pianista di Segusino proponendo un repertorio pop / rock / blues quasi interamente in versione acustica sotto il nome di “Nico & Nena duo”. \nL’iniziativa è promossa dalla Pro Loco Monti del Sole e dal Consorzio Pro Loco Pedemontane Val Belluna e Feltrino con la collaborazione degli abitanti del piccolo borgo e del Comitato Pascoli-Volpez. \nLa borgata è raggiungibile a piedi o con la navetta con partenza dai Pascoli vicino alla chiesa di San Michele. \n  \nPartecipazione Libera e gratuita \nInfo: proloco@sospirolo.net – 320 3342082
URL:https://www.prolocobellunesi.it/evento/concerto-nena-trentin-musica-live/
CATEGORIES:Concerti
ATTACH;FMTTYPE=image/jpeg:https://www.prolocobellunesi.it/wp-content/uploads/2023/07/E-Manifesto-16lug23-Musica-nei-cortivi-950kb-scaled.jpg
END:VEVENT
BEGIN:VEVENT
DTSTART;TZID=UTC:20230624T204500
DTEND;TZID=UTC:20230624T230000
DTSTAMP:20260423T082703
CREATED:20230609T065810Z
LAST-MODIFIED:20230609T065810Z
UID:5819-1687639500-1687647600@www.prolocobellunesi.it
SUMMARY:Tradizionale concerto per il patrono di Sospirolo “Canton San Piero”
DESCRIPTION:Tradizionale concerto per il patrono di Sospirolo “Canton San Piero” \n\nsabato 24 giugno ore 20.45 nella Chiesa di Sospirolo\n\ncon il coro Monti del Sole diretto dal M° Luca Lotto\, ospite il coro Rualan di Valle di Cadore
URL:https://www.prolocobellunesi.it/evento/tradizionale-concerto-per-il-patrono-di-sospirolo-canton-san-piero/
CATEGORIES:Concerti
ATTACH;FMTTYPE=image/png:https://www.prolocobellunesi.it/wp-content/uploads/2023/06/Coro-Rualan.png
END:VEVENT
BEGIN:VEVENT
DTSTART;TZID=UTC:20230609T204500
DTEND;TZID=UTC:20230609T230000
DTSTAMP:20260423T082703
CREATED:20230530T074158Z
LAST-MODIFIED:20230530T074158Z
UID:5807-1686343500-1686351600@www.prolocobellunesi.it
SUMMARY:Concerto SONG -WFAVERS PHILIPPINES
DESCRIPTION:
URL:https://www.prolocobellunesi.it/evento/concerto-song-wfavers-philippines/
CATEGORIES:Concerti
ATTACH;FMTTYPE=image/jpeg:https://www.prolocobellunesi.it/wp-content/uploads/2023/05/manifesto_concetro_philippines.pdf-scaled.jpg
END:VEVENT
BEGIN:VEVENT
DTSTART;TZID=UTC:20230513T210000
DTEND;TZID=UTC:20230513T230000
DTSTAMP:20260423T082703
CREATED:20230509T141713Z
LAST-MODIFIED:20230509T141811Z
UID:5767-1684011600-1684018800@www.prolocobellunesi.it
SUMMARY:Uncle Frank Projet
DESCRIPTION:
URL:https://www.prolocobellunesi.it/evento/unkle-frank-project/
CATEGORIES:Concerti,Musica dal vivo
ATTACH;FMTTYPE=image/jpeg:https://www.prolocobellunesi.it/wp-content/uploads/2023/05/castion.jpg
END:VEVENT
BEGIN:VEVENT
DTSTART;TZID=UTC:20221229T203000
DTEND;TZID=UTC:20221229T220000
DTSTAMP:20260423T082703
CREATED:20221221T072314Z
LAST-MODIFIED:20221221T072314Z
UID:5624-1672345800-1672351200@www.prolocobellunesi.it
SUMMARY:Concerto di Natale 2022
DESCRIPTION:
URL:https://www.prolocobellunesi.it/evento/concerto-di-natale-2022/
CATEGORIES:Concerti,Eventi natalizi,Natale
ATTACH;FMTTYPE=image/jpeg:https://www.prolocobellunesi.it/wp-content/uploads/2022/12/natale.jpeg
END:VEVENT
BEGIN:VEVENT
DTSTART;TZID=UTC:20221204T173000
DTEND;TZID=UTC:20221204T200000
DTSTAMP:20260423T082703
CREATED:20221128T133353Z
LAST-MODIFIED:20221128T133353Z
UID:5523-1670175000-1670184000@www.prolocobellunesi.it
SUMMARY:Concerto di S.Barbara a Sospirolo
DESCRIPTION:
URL:https://www.prolocobellunesi.it/evento/concerto-di-s-barbara-a-sospirolo/
LOCATION:Sospirolo\, 32037\, Italia
CATEGORIES:Concerti,Natale
ATTACH;FMTTYPE=image/jpeg:https://www.prolocobellunesi.it/wp-content/uploads/2022/11/Manifesto-Santa-Barbara-2022.jpg
END:VEVENT
BEGIN:VEVENT
DTSTART;TZID=UTC:20220806T204500
DTEND;TZID=UTC:20220806T230000
DTSTAMP:20260423T082703
CREATED:20220804T093216Z
LAST-MODIFIED:20220804T093217Z
UID:5320-1659818700-1659826800@www.prolocobellunesi.it
SUMMARY:Concerto Gruppo  vocale "Sintagma"
DESCRIPTION:
URL:https://www.prolocobellunesi.it/evento/concerto-gruppo-vocale-sintagma/
CATEGORIES:Concerti
ATTACH;FMTTYPE=image/jpeg:https://www.prolocobellunesi.it/wp-content/uploads/2022/08/concerto.jpg
END:VEVENT
BEGIN:VEVENT
DTSTART;TZID=UTC:20220723T173000
DTEND;TZID=UTC:20220723T173000
DTSTAMP:20260423T082703
CREATED:20220713T144739Z
LAST-MODIFIED:20220713T144739Z
UID:5264-1658597400-1658597400@www.prolocobellunesi.it
SUMMARY:Eventi estate San Tomaso
DESCRIPTION:
URL:https://www.prolocobellunesi.it/evento/eventi-estate-san-tomaso/
CATEGORIES:Concerti,Evento,Musica dal vivo,Serata culturale
ATTACH;FMTTYPE=image/jpeg:https://www.prolocobellunesi.it/wp-content/uploads/2022/07/san_tomaso_estate.jpg
END:VEVENT
BEGIN:VEVENT
DTSTART;TZID=UTC:20211227T204500
DTEND;TZID=UTC:20211227T223000
DTSTAMP:20260423T082703
CREATED:20211216T081040Z
LAST-MODIFIED:20211216T081040Z
UID:4928-1640637900-1640644200@www.prolocobellunesi.it
SUMMARY:CONCERTO DEI CORI CADORE E CODISSAGO
DESCRIPTION:
URL:https://www.prolocobellunesi.it/evento/concerto-dei-cori-cadore-e-codissago/
LOCATION:Lozzo di Cadore\, 32040\, Italia
CATEGORIES:Concerti,Eventi natalizi
ATTACH;FMTTYPE=image/jpeg:https://www.prolocobellunesi.it/wp-content/uploads/2021/12/lozzo_dicadore_27dicembre.jpeg
END:VEVENT
BEGIN:VEVENT
DTSTART;TZID=UTC:20211205T173000
DTEND;TZID=UTC:20211205T200000
DTSTAMP:20260423T082703
CREATED:20211130T103537Z
LAST-MODIFIED:20211130T103537Z
UID:4862-1638725400-1638734400@www.prolocobellunesi.it
SUMMARY:Barbara...santa subito!
DESCRIPTION:
URL:https://www.prolocobellunesi.it/evento/barbara-santa-subito/
CATEGORIES:Concerti,Eventi natalizi
END:VEVENT
BEGIN:VEVENT
DTSTART;TZID=UTC:20211015T080000
DTEND;TZID=UTC:20211017T190000
DTSTAMP:20260423T082703
CREATED:20211004T080226Z
LAST-MODIFIED:20211004T080226Z
UID:4732-1634284800-1634497200@www.prolocobellunesi.it
SUMMARY:Limana paese del miele
DESCRIPTION:
URL:https://www.prolocobellunesi.it/evento/limana-paese-del-miele-3/
LOCATION:Limana\, Via Roma\, 90\, 32020 Limana BL\, Limana\, Belluno\, 32020\, Italia
CATEGORIES:Concerti,Convegni,Evento,Sagre ed enogastronomia
END:VEVENT
BEGIN:VEVENT
DTSTART;TZID=UTC:20210905T090000
DTEND;TZID=UTC:20210905T190000
DTSTAMP:20260423T082703
CREATED:20210827T063801Z
LAST-MODIFIED:20210827T063801Z
UID:4678-1630832400-1630868400@www.prolocobellunesi.it
SUMMARY:POM & PER a Moldoi de Sospiroi
DESCRIPTION:POM & PER a Moldoi de Sospiroi in Villa Sandi – Zasso \ndomenica 5 settembre 2021 \nore 9.00 Partenza da piazza Lexy a Sospirolo della Pedalata per famiglie lungo la Pedemontana bellunese proposta dal Consorzio Pro Loco pedemontane Val Belluna.\nInfo Tati – Guida cicloturistica: tel. 347 0756936 \nore 10.30 \nConvegno  \n\nPiano per il contrasto alla diffusione della cimice: primi risultati; intervento del prof. Alberto Pozzebon del dipartimento DAFNAE dell’Università di Padova\n\n\nEsperienze e attrezzi di lavoro dell’ Az. Agroecologica Terra Viva\, produttrice orticola market garden\n\ndalle 10 alle 18 \nEsposizione di prodotti ortofrutticoli\, artigianato locale e artistico \n\ndedicata a Malenko Sacchet –\n\nore 13\,20 \nvisita guidata da Nicola De Zordi al campo delle piante officinali \ndella Società Agricola Moldoi\, di fronte alla Villa \nore 14.20 \nproiezione del DocuFilm “Acqua viva. La forza del Mis\, l’ingegno degli uomini” \ndalle 14.30 alle 17.30 \ndivertiamoci con i “Giochi di un tempo” – per grandi e bambini – proposti dal Comitato per Pullir \nore 15\,20 \nRudy Vallet Vi accompagnerà alla scoperta dei dintorni di Moldoi-Maras e villa Zasso (escluso le parti abitate) con  sosta all’ Az. Agr. Christian Pilotti e Augusta Tibolla di allevamento della Capra camosciata delle Alpi con produzione di latte biologico e ai campi di ortaggi di Staolaz. Percorso di 2 km circa\, consigliate scarpe da trekking – \nore 17\,20 \nConcerto della Banda comunale di Arsiè diretta dal M° Riccardo Terrin \nMostre \n\npomologica di mele e pere provenienti dal vivaio del Centro Sperimentale Pradon di Porto Tolle (RO) di Veneto Agricoltura\nsculture lignee di Giancarlo Cassol\nopere di Elvio Dal Pan\npiante e laboratorio di pulitura e impostazione del Bonsai Club Feltre\n\nDurante la giornata i Piloti di Montagna (AIPM) eseguiranno atterraggi e decolli sui prati circostanti la villa \nIn funzione Posto di Ristoro \nIn ricordo di Carlo Zasso (1836-1912) amministratore pubblico ed esperto agronomo \nInfo: www.sospirolo.net   320 334 2082 \nConvegno e Concerto fino ad esaurimento posti\, prenotazione: proloco@sospirolo.net e sul posto. \nSi raccomanda il rispetto delle norme anti Covid-19. Presentarsi muniti di mascherina e di Certificazione Verde (Green Pass)
URL:https://www.prolocobellunesi.it/evento/pom-per-a-moldoi-de-sospiroi-2/
CATEGORIES:Concerti,Convegni,Evento,Fiere e mercatini,Mostra Mercato,Rassegna artistica e culturale
ATTACH;FMTTYPE=image/jpeg:https://www.prolocobellunesi.it/wp-content/uploads/2021/08/VolantinoPomePer-A4_1-rid30.jpg
END:VEVENT
BEGIN:VEVENT
DTSTART;TZID=UTC:20210903T190000
DTEND;TZID=UTC:20210905T150000
DTSTAMP:20260423T082703
CREATED:20210901T134116Z
LAST-MODIFIED:20210901T135551Z
UID:4688-1630695600-1630854000@www.prolocobellunesi.it
SUMMARY:Il pastin in festa a Limana
DESCRIPTION:
URL:https://www.prolocobellunesi.it/evento/il-pastin-in-festa-a-limana/
LOCATION:Limana\, Via Roma\, 90\, 32020 Limana BL\, Limana\, Belluno\, 32020\, Italia
CATEGORIES:Concerti,Evento,Sagre ed enogastronomia
END:VEVENT
BEGIN:VEVENT
DTSTART;TZID=UTC:20210717T180000
DTEND;TZID=UTC:20210717T220000
DTSTAMP:20260423T082703
CREATED:20210702T090003Z
LAST-MODIFIED:20210719T075525Z
UID:4587-1626544800-1626559200@www.prolocobellunesi.it
SUMMARY:GENA ALTA (Sospirolo) - RINVIATO
DESCRIPTION:Per cause di Forza maggiore il concerto in Gena è rinviato a data da destinarsi. \nGENA ALTA (Sospirolo) • ore 17.00 \nRassegna “Musica nei cortivi” \nConcerto di Les Magots – le regine dello swing \nDonne\, musica\, cronaca e costume tra gli anni ’30 e ‘40 \nBarbara Padrin – voce \nCandida Capraro – voce e flauto \nVeronica Bronzato – voce \nLeonardo Dalla Cort – pianoforte \nStefano Funes – batteria \nMichele Dal Don – sax \nPer ricordare i 100 anni della fontana del paese \nGena Alta è raggiungibile solo a piedi lungo strada in circa 45 minuti di cammino \n(circa 350 m di dislivello). Il concerto si terrà sul prato. \nGRADITO ABBIGLIAMENTO VINTAGE! \nSi invitano i partecipanti al rispetto delle normative CoVID-19 \nInfo: proloco@sospirolo.net – 320 334 2082
URL:https://www.prolocobellunesi.it/evento/gena-alta-sospirolo/
LOCATION:Sospirolo\, 32037\, Italia
CATEGORIES:Concerti
ATTACH;FMTTYPE=image/jpeg:https://www.prolocobellunesi.it/wp-content/uploads/2021/07/les_magots-1-scaled.jpg
END:VEVENT
BEGIN:VEVENT
DTSTART;TZID=UTC:20210711T180000
DTEND;TZID=UTC:20210711T220000
DTSTAMP:20260423T082703
CREATED:20210629T085820Z
LAST-MODIFIED:20210629T085820Z
UID:4563-1626026400-1626040800@www.prolocobellunesi.it
SUMMARY:Musica nei cortivi
DESCRIPTION:
URL:https://www.prolocobellunesi.it/evento/musica-nei-cortivi-2/
CATEGORIES:Concerti
END:VEVENT
BEGIN:VEVENT
DTSTART;TZID=UTC:20210710T080000
DTEND;TZID=UTC:20210928T170000
DTSTAMP:20260423T082703
CREATED:20210719T082314Z
LAST-MODIFIED:20210719T082314Z
UID:4596-1625904000-1632848400@www.prolocobellunesi.it
SUMMARY:Appuntamenti estivi con Papa Luciani
DESCRIPTION:
URL:https://www.prolocobellunesi.it/evento/appuntamenti-estivi-con-papa-luciani/
LOCATION:Agordo\, La Valle Agordina\, Agordo\, 32021\, Italia
CATEGORIES:Concerti,Convegni,Evento,Mostre,Musica dal vivo,Serata culturale
END:VEVENT
END:VCALENDAR