BEGIN:VCALENDAR
VERSION:2.0
PRODID:-//Pro Loco Bellunesi - ECPv6.10.2//NONSGML v1.0//EN
CALSCALE:GREGORIAN
METHOD:PUBLISH
X-WR-CALNAME:Pro Loco Bellunesi
X-ORIGINAL-URL:https://www.prolocobellunesi.it
X-WR-CALDESC:Eventi per Pro Loco Bellunesi
REFRESH-INTERVAL;VALUE=DURATION:PT1H
X-Robots-Tag:noindex
X-PUBLISHED-TTL:PT1H
BEGIN:VTIMEZONE
TZID:UTC
BEGIN:STANDARD
TZOFFSETFROM:+0000
TZOFFSETTO:+0000
TZNAME:UTC
DTSTART:20260101T000000
END:STANDARD
END:VTIMEZONE
BEGIN:VEVENT
DTSTART;TZID=UTC:20260425T080000
DTEND;TZID=UTC:20260426T170000
DTSTAMP:20260423T081039
CREATED:20260420T161718Z
LAST-MODIFIED:20260420T161718Z
UID:59474-1777104000-1777222800@www.prolocobellunesi.it
SUMMARY:Festa de l'Om Salvarech a La Valle Agordina (25-26 aprile)
DESCRIPTION:
URL:https://www.prolocobellunesi.it/evento/festa-de-lom-salvarech-a-la-valle-agordina-25-26-aprile/
CATEGORIES:Eventi vari
ATTACH;FMTTYPE=image/jpeg:https://www.prolocobellunesi.it/wp-content/uploads/2026/04/Immagine-Manifesto_Om-Salvarech-2026-scaled.jpg
END:VEVENT
BEGIN:VEVENT
DTSTART;TZID=UTC:20260501T080000
DTEND;TZID=UTC:20260501T170000
DTSTAMP:20260423T081040
CREATED:20260415T085244Z
LAST-MODIFIED:20260415T085244Z
UID:59468-1777622400-1777654800@www.prolocobellunesi.it
SUMMARY:3° Tractor Day Limana
DESCRIPTION:
URL:https://www.prolocobellunesi.it/evento/3-tractor-day-limana/
CATEGORIES:Eventi vari
ATTACH;FMTTYPE=image/jpeg:https://www.prolocobellunesi.it/wp-content/uploads/2026/04/a4_primo_maggio_2026arancio.jpg
END:VEVENT
BEGIN:VEVENT
DTSTART;TZID=UTC:20260502T080000
DTEND;TZID=UTC:20260502T170000
DTSTAMP:20260423T081040
CREATED:20260409T141034Z
LAST-MODIFIED:20260409T141034Z
UID:59462-1777708800-1777741200@www.prolocobellunesi.it
SUMMARY:Giornata ecologica
DESCRIPTION:
URL:https://www.prolocobellunesi.it/evento/giornata-ecologica-2/
CATEGORIES:Eventi vari
ATTACH;FMTTYPE=image/jpeg:https://www.prolocobellunesi.it/wp-content/uploads/2026/04/giornata_ecologica.jpeg
END:VEVENT
END:VCALENDAR